BEGIN:VCALENDAR
VERSION:2.0
PRODID:-//LWVSPA - ECPv6.15.20//NONSGML v1.0//EN
CALSCALE:GREGORIAN
METHOD:PUBLISH
X-ORIGINAL-URL:https://lwvspa.org
X-WR-CALDESC:Events for LWVSPA
REFRESH-INTERVAL;VALUE=DURATION:PT1H
X-Robots-Tag:noindex
X-PUBLISHED-TTL:PT1H
BEGIN:VTIMEZONE
TZID:UTC
BEGIN:STANDARD
TZOFFSETFROM:+0000
TZOFFSETTO:+0000
TZNAME:UTC
DTSTART:20200101T000000
END:STANDARD
END:VTIMEZONE
BEGIN:VEVENT
DTSTART;TZID=UTC:20210822T130000
DTEND;TZID=UTC:20210822T150000
DTSTAMP:20260425T171310
CREATED:20210820T084924Z
LAST-MODIFIED:20210820T084926Z
UID:10000866-1629637200-1629644400@lwvspa.org
SUMMARY:Voting is Power Block Party
DESCRIPTION:In partnership with the NAACP\, Women Talk Black\, Interdenominational Ministerial Alliance\, Equal Ground\, St. Pete Islamic Center\, and the Woodson Museum\, we are co-hosting a GOTV event for the St. Pete Municipal Primary Elections.There will be a series of speakers that are leaders in the community including clergy\, elected officials\, activists\, returning citizens\, super voters and first time voters. This event will be outdoors and will include music\, food trucks and other entertainment.
URL:https://lwvspa.org/event/voting-is-power-block-party/
LOCATION:Greater Mt. Zion AME Church\, 1045 16th St. S.\, St. Pete\, Florida\, 33705
END:VEVENT
END:VCALENDAR