BEGIN:VCALENDAR
VERSION:2.0
PRODID:-//LWVSPA - ECPv6.15.20//NONSGML v1.0//EN
CALSCALE:GREGORIAN
METHOD:PUBLISH
X-WR-CALNAME:LWVSPA
X-ORIGINAL-URL:https://lwvspa.org
X-WR-CALDESC:Events for LWVSPA
REFRESH-INTERVAL;VALUE=DURATION:PT1H
X-Robots-Tag:noindex
X-PUBLISHED-TTL:PT1H
BEGIN:VTIMEZONE
TZID:America/New_York
BEGIN:DAYLIGHT
TZOFFSETFROM:-0500
TZOFFSETTO:-0400
TZNAME:EDT
DTSTART:20220313T070000
END:DAYLIGHT
BEGIN:STANDARD
TZOFFSETFROM:-0400
TZOFFSETTO:-0500
TZNAME:EST
DTSTART:20221106T060000
END:STANDARD
BEGIN:DAYLIGHT
TZOFFSETFROM:-0500
TZOFFSETTO:-0400
TZNAME:EDT
DTSTART:20230312T070000
END:DAYLIGHT
BEGIN:STANDARD
TZOFFSETFROM:-0400
TZOFFSETTO:-0500
TZNAME:EST
DTSTART:20231105T060000
END:STANDARD
BEGIN:DAYLIGHT
TZOFFSETFROM:-0500
TZOFFSETTO:-0400
TZNAME:EDT
DTSTART:20240310T070000
END:DAYLIGHT
BEGIN:STANDARD
TZOFFSETFROM:-0400
TZOFFSETTO:-0500
TZNAME:EST
DTSTART:20241103T060000
END:STANDARD
END:VTIMEZONE
BEGIN:VEVENT
DTSTART;TZID=America/New_York:20230914T183000
DTEND;TZID=America/New_York:20230914T210000
DTSTAMP:20260423T184501
CREATED:20230807T123117Z
LAST-MODIFIED:20230807T123118Z
UID:10000988-1694716200-1694725200@lwvspa.org
SUMMARY:Hopped-Up on Democracy
DESCRIPTION:Hey smarty pants! Do you like Democracy? Craft Beer? Trivia\, Games and Prizes? Then join us for a FREE\, non-partisan\, democracy-themed Game Night\, special redistricting edition. Bring your friends\, bring your spouse who’s apathetic about voting\, bring your mom and let’s get our democracy on! Free food and drinks! \n\n\n\n\n\n		Register Here
URL:https://lwvspa.org/event/hopped-up-on-democracy/
LOCATION:Pinellas Ale Works\, 1962 1st Ave S\, Florida\, 33712
END:VEVENT
END:VCALENDAR