BEGIN:VCALENDAR
VERSION:2.0
PRODID:-//LWVSPA - ECPv6.15.20//NONSGML v1.0//EN
CALSCALE:GREGORIAN
METHOD:PUBLISH
X-WR-CALNAME:LWVSPA
X-ORIGINAL-URL:https://lwvspa.org
X-WR-CALDESC:Events for LWVSPA
REFRESH-INTERVAL;VALUE=DURATION:PT1H
X-Robots-Tag:noindex
X-PUBLISHED-TTL:PT1H
BEGIN:VTIMEZONE
TZID:America/New_York
BEGIN:DAYLIGHT
TZOFFSETFROM:-0500
TZOFFSETTO:-0400
TZNAME:EDT
DTSTART:20240310T070000
END:DAYLIGHT
BEGIN:STANDARD
TZOFFSETFROM:-0400
TZOFFSETTO:-0500
TZNAME:EST
DTSTART:20241103T060000
END:STANDARD
BEGIN:DAYLIGHT
TZOFFSETFROM:-0500
TZOFFSETTO:-0400
TZNAME:EDT
DTSTART:20250309T070000
END:DAYLIGHT
BEGIN:STANDARD
TZOFFSETFROM:-0400
TZOFFSETTO:-0500
TZNAME:EST
DTSTART:20251102T060000
END:STANDARD
BEGIN:DAYLIGHT
TZOFFSETFROM:-0500
TZOFFSETTO:-0400
TZNAME:EDT
DTSTART:20260308T070000
END:DAYLIGHT
BEGIN:STANDARD
TZOFFSETFROM:-0400
TZOFFSETTO:-0500
TZNAME:EST
DTSTART:20261101T060000
END:STANDARD
BEGIN:DAYLIGHT
TZOFFSETFROM:-0500
TZOFFSETTO:-0400
TZNAME:EDT
DTSTART:20270314T070000
END:DAYLIGHT
BEGIN:STANDARD
TZOFFSETFROM:-0400
TZOFFSETTO:-0500
TZNAME:EST
DTSTART:20271107T060000
END:STANDARD
END:VTIMEZONE
BEGIN:VEVENT
DTSTART;TZID=America/New_York:20260125T160000
DTEND;TZID=America/New_York:20260125T170000
DTSTAMP:20260423T130010
CREATED:20260212T195905Z
LAST-MODIFIED:20260212T195906Z
UID:10002365-1769356800-1769360400@lwvspa.org
SUMMARY:Vigil for Immigrant Justice
DESCRIPTION:The Pinellas/Hillsborough Interfaith Coalition\, LWVSPA\, and our allies host a peaceful Freedom Vigil to stand in solidarity with immigrant families and demand an end to the detention and deportation of our nonviolent\, law-abiding immigrant community neighbors\, siblings\, and friends. These vigils shine a light on the erosion of due process and the rise of authoritarian overreach. We pray for family reunification and justice for all immigrants. Together\, we affirm that justice\, compassion\, and the rule of law must apply to everyone—regardless of immigration status. \n\n\n\nDetails: \n\n\n\nSundays 4-5 pm \n\n\n\nPinellas County Courthouse14250 49th Street N (corner of 144 Ave N & 49th St N)Clearwater\, FL 33762 \n\n\n\nRegister:https://flic.fyi/727vigil
URL:https://lwvspa.org/event/vigil-for-immigrant-justice-2/2026-01-25/
LOCATION:Pinellas County Courthouse\, 14450 49th Street N\, Clearwater\, Florida\, 33762\, United States
END:VEVENT
BEGIN:VEVENT
DTSTART;TZID=America/New_York:20260118T160000
DTEND;TZID=America/New_York:20260118T170000
DTSTAMP:20260423T130010
CREATED:20260212T195905Z
LAST-MODIFIED:20260212T195906Z
UID:10002364-1768752000-1768755600@lwvspa.org
SUMMARY:Vigil for Immigrant Justice
DESCRIPTION:The Pinellas/Hillsborough Interfaith Coalition\, LWVSPA\, and our allies host a peaceful Freedom Vigil to stand in solidarity with immigrant families and demand an end to the detention and deportation of our nonviolent\, law-abiding immigrant community neighbors\, siblings\, and friends. These vigils shine a light on the erosion of due process and the rise of authoritarian overreach. We pray for family reunification and justice for all immigrants. Together\, we affirm that justice\, compassion\, and the rule of law must apply to everyone—regardless of immigration status. \n\n\n\nDetails: \n\n\n\nSundays 4-5 pm \n\n\n\nPinellas County Courthouse14250 49th Street N (corner of 144 Ave N & 49th St N)Clearwater\, FL 33762 \n\n\n\nRegister:https://flic.fyi/727vigil
URL:https://lwvspa.org/event/vigil-for-immigrant-justice-2/2026-01-18/
LOCATION:Pinellas County Courthouse\, 14450 49th Street N\, Clearwater\, Florida\, 33762\, United States
END:VEVENT
BEGIN:VEVENT
DTSTART;TZID=America/New_York:20260111T160000
DTEND;TZID=America/New_York:20260111T170000
DTSTAMP:20260423T130010
CREATED:20260212T195905Z
LAST-MODIFIED:20260212T195906Z
UID:10002363-1768147200-1768150800@lwvspa.org
SUMMARY:Vigil for Immigrant Justice
DESCRIPTION:The Pinellas/Hillsborough Interfaith Coalition\, LWVSPA\, and our allies host a peaceful Freedom Vigil to stand in solidarity with immigrant families and demand an end to the detention and deportation of our nonviolent\, law-abiding immigrant community neighbors\, siblings\, and friends. These vigils shine a light on the erosion of due process and the rise of authoritarian overreach. We pray for family reunification and justice for all immigrants. Together\, we affirm that justice\, compassion\, and the rule of law must apply to everyone—regardless of immigration status. \n\n\n\nDetails: \n\n\n\nSundays 4-5 pm \n\n\n\nPinellas County Courthouse14250 49th Street N (corner of 144 Ave N & 49th St N)Clearwater\, FL 33762 \n\n\n\nRegister:https://flic.fyi/727vigil
URL:https://lwvspa.org/event/vigil-for-immigrant-justice-2/2026-01-11/
LOCATION:Pinellas County Courthouse\, 14450 49th Street N\, Clearwater\, Florida\, 33762\, United States
END:VEVENT
BEGIN:VEVENT
DTSTART;TZID=America/New_York:20260104T160000
DTEND;TZID=America/New_York:20260104T170000
DTSTAMP:20260423T130010
CREATED:20260212T195905Z
LAST-MODIFIED:20260212T195906Z
UID:10002254-1767542400-1767546000@lwvspa.org
SUMMARY:Vigil for Immigrant Justice
DESCRIPTION:The Pinellas/Hillsborough Interfaith Coalition\, LWVSPA\, and our allies host a peaceful Freedom Vigil to stand in solidarity with immigrant families and demand an end to the detention and deportation of our nonviolent\, law-abiding immigrant community neighbors\, siblings\, and friends. These vigils shine a light on the erosion of due process and the rise of authoritarian overreach. We pray for family reunification and justice for all immigrants. Together\, we affirm that justice\, compassion\, and the rule of law must apply to everyone—regardless of immigration status. \n\n\n\nDetails: \n\n\n\nSundays 4-5 pm \n\n\n\nPinellas County Courthouse14250 49th Street N (corner of 144 Ave N & 49th St N)Clearwater\, FL 33762 \n\n\n\nRegister:https://flic.fyi/727vigil
URL:https://lwvspa.org/event/vigil-for-immigrant-justice-2/2026-01-04/
LOCATION:Pinellas County Courthouse\, 14450 49th Street N\, Clearwater\, Florida\, 33762\, United States
END:VEVENT
BEGIN:VEVENT
DTSTART;TZID=America/New_York:20251228T160000
DTEND;TZID=America/New_York:20251228T170000
DTSTAMP:20260423T130010
CREATED:20260212T195905Z
LAST-MODIFIED:20260212T195906Z
UID:10002373-1766937600-1766941200@lwvspa.org
SUMMARY:Vigil for Immigrant Justice
DESCRIPTION:The Pinellas/Hillsborough Interfaith Coalition\, LWVSPA\, and our allies host a peaceful Freedom Vigil to stand in solidarity with immigrant families and demand an end to the detention and deportation of our nonviolent\, law-abiding immigrant community neighbors\, siblings\, and friends. These vigils shine a light on the erosion of due process and the rise of authoritarian overreach. We pray for family reunification and justice for all immigrants. Together\, we affirm that justice\, compassion\, and the rule of law must apply to everyone—regardless of immigration status. \n\n\n\nDetails: \n\n\n\nSundays 4-5 pm \n\n\n\nPinellas County Courthouse14250 49th Street N (corner of 144 Ave N & 49th St N)Clearwater\, FL 33762 \n\n\n\nRegister:https://flic.fyi/727vigil
URL:https://lwvspa.org/event/vigil-for-immigrant-justice-2/2025-12-28/
LOCATION:Pinellas County Courthouse\, 14450 49th Street N\, Clearwater\, Florida\, 33762\, United States
END:VEVENT
BEGIN:VEVENT
DTSTART;TZID=America/New_York:20251228T160000
DTEND;TZID=America/New_York:20251228T170000
DTSTAMP:20260423T130010
CREATED:20251116T130321Z
LAST-MODIFIED:20260212T195822Z
UID:10002253-1766937600-1766941200@lwvspa.org
SUMMARY:Vigil for Immigrant Justice
DESCRIPTION:The Pinellas/Hillsborough Interfaith Coalition\, LWVSPA\, and our allies host a peaceful Freedom Vigil to stand in solidarity with immigrant families and demand an end to the detention and deportation of our nonviolent\, law-abiding immigrant community neighbors\, siblings\, and friends. These vigils shine a light on the erosion of due process and the rise of authoritarian overreach. We pray for family reunification and justice for all immigrants. Together\, we affirm that justice\, compassion\, and the rule of law must apply to everyone—regardless of immigration status. \n\n\n\nDetails: \n\n\n\nSundays 4-5 pm \n\n\n\nPinellas County Courthouse14250 49th Street N (corner of 144 Ave N & 49th St N)Clearwater\, FL 33762 \n\n\n\nRegister:https://flic.fyi/727vigil
URL:https://lwvspa.org/event/vigil-for-immigrant-justice/2025-12-28/
LOCATION:Pinellas County Courthouse\, 14450 49th Street N\, Clearwater\, Florida\, 33762\, United States
END:VEVENT
BEGIN:VEVENT
DTSTART;TZID=America/New_York:20251221T160000
DTEND;TZID=America/New_York:20251221T170000
DTSTAMP:20260423T130010
CREATED:20260212T195905Z
LAST-MODIFIED:20260212T195906Z
UID:10002372-1766332800-1766336400@lwvspa.org
SUMMARY:Vigil for Immigrant Justice
DESCRIPTION:The Pinellas/Hillsborough Interfaith Coalition\, LWVSPA\, and our allies host a peaceful Freedom Vigil to stand in solidarity with immigrant families and demand an end to the detention and deportation of our nonviolent\, law-abiding immigrant community neighbors\, siblings\, and friends. These vigils shine a light on the erosion of due process and the rise of authoritarian overreach. We pray for family reunification and justice for all immigrants. Together\, we affirm that justice\, compassion\, and the rule of law must apply to everyone—regardless of immigration status. \n\n\n\nDetails: \n\n\n\nSundays 4-5 pm \n\n\n\nPinellas County Courthouse14250 49th Street N (corner of 144 Ave N & 49th St N)Clearwater\, FL 33762 \n\n\n\nRegister:https://flic.fyi/727vigil
URL:https://lwvspa.org/event/vigil-for-immigrant-justice-2/2025-12-21/
LOCATION:Pinellas County Courthouse\, 14450 49th Street N\, Clearwater\, Florida\, 33762\, United States
END:VEVENT
BEGIN:VEVENT
DTSTART;TZID=America/New_York:20251221T160000
DTEND;TZID=America/New_York:20251221T170000
DTSTAMP:20260423T130010
CREATED:20251116T130321Z
LAST-MODIFIED:20260212T195822Z
UID:10002252-1766332800-1766336400@lwvspa.org
SUMMARY:Vigil for Immigrant Justice
DESCRIPTION:The Pinellas/Hillsborough Interfaith Coalition\, LWVSPA\, and our allies host a peaceful Freedom Vigil to stand in solidarity with immigrant families and demand an end to the detention and deportation of our nonviolent\, law-abiding immigrant community neighbors\, siblings\, and friends. These vigils shine a light on the erosion of due process and the rise of authoritarian overreach. We pray for family reunification and justice for all immigrants. Together\, we affirm that justice\, compassion\, and the rule of law must apply to everyone—regardless of immigration status. \n\n\n\nDetails: \n\n\n\nSundays 4-5 pm \n\n\n\nPinellas County Courthouse14250 49th Street N (corner of 144 Ave N & 49th St N)Clearwater\, FL 33762 \n\n\n\nRegister:https://flic.fyi/727vigil
URL:https://lwvspa.org/event/vigil-for-immigrant-justice/2025-12-21/
LOCATION:Pinellas County Courthouse\, 14450 49th Street N\, Clearwater\, Florida\, 33762\, United States
END:VEVENT
BEGIN:VEVENT
DTSTART;TZID=America/New_York:20251214T160000
DTEND;TZID=America/New_York:20251214T170000
DTSTAMP:20260423T130010
CREATED:20260212T195905Z
LAST-MODIFIED:20260212T195906Z
UID:10002371-1765728000-1765731600@lwvspa.org
SUMMARY:Vigil for Immigrant Justice
DESCRIPTION:The Pinellas/Hillsborough Interfaith Coalition\, LWVSPA\, and our allies host a peaceful Freedom Vigil to stand in solidarity with immigrant families and demand an end to the detention and deportation of our nonviolent\, law-abiding immigrant community neighbors\, siblings\, and friends. These vigils shine a light on the erosion of due process and the rise of authoritarian overreach. We pray for family reunification and justice for all immigrants. Together\, we affirm that justice\, compassion\, and the rule of law must apply to everyone—regardless of immigration status. \n\n\n\nDetails: \n\n\n\nSundays 4-5 pm \n\n\n\nPinellas County Courthouse14250 49th Street N (corner of 144 Ave N & 49th St N)Clearwater\, FL 33762 \n\n\n\nRegister:https://flic.fyi/727vigil
URL:https://lwvspa.org/event/vigil-for-immigrant-justice-2/2025-12-14/
LOCATION:Pinellas County Courthouse\, 14450 49th Street N\, Clearwater\, Florida\, 33762\, United States
END:VEVENT
BEGIN:VEVENT
DTSTART;TZID=America/New_York:20251214T160000
DTEND;TZID=America/New_York:20251214T170000
DTSTAMP:20260423T130010
CREATED:20251116T130321Z
LAST-MODIFIED:20260212T195822Z
UID:10002251-1765728000-1765731600@lwvspa.org
SUMMARY:Vigil for Immigrant Justice
DESCRIPTION:The Pinellas/Hillsborough Interfaith Coalition\, LWVSPA\, and our allies host a peaceful Freedom Vigil to stand in solidarity with immigrant families and demand an end to the detention and deportation of our nonviolent\, law-abiding immigrant community neighbors\, siblings\, and friends. These vigils shine a light on the erosion of due process and the rise of authoritarian overreach. We pray for family reunification and justice for all immigrants. Together\, we affirm that justice\, compassion\, and the rule of law must apply to everyone—regardless of immigration status. \n\n\n\nDetails: \n\n\n\nSundays 4-5 pm \n\n\n\nPinellas County Courthouse14250 49th Street N (corner of 144 Ave N & 49th St N)Clearwater\, FL 33762 \n\n\n\nRegister:https://flic.fyi/727vigil
URL:https://lwvspa.org/event/vigil-for-immigrant-justice/2025-12-14/
LOCATION:Pinellas County Courthouse\, 14450 49th Street N\, Clearwater\, Florida\, 33762\, United States
END:VEVENT
BEGIN:VEVENT
DTSTART;TZID=America/New_York:20251207T160000
DTEND;TZID=America/New_York:20251207T170000
DTSTAMP:20260423T130010
CREATED:20260212T195905Z
LAST-MODIFIED:20260212T195906Z
UID:10002370-1765123200-1765126800@lwvspa.org
SUMMARY:Vigil for Immigrant Justice
DESCRIPTION:The Pinellas/Hillsborough Interfaith Coalition\, LWVSPA\, and our allies host a peaceful Freedom Vigil to stand in solidarity with immigrant families and demand an end to the detention and deportation of our nonviolent\, law-abiding immigrant community neighbors\, siblings\, and friends. These vigils shine a light on the erosion of due process and the rise of authoritarian overreach. We pray for family reunification and justice for all immigrants. Together\, we affirm that justice\, compassion\, and the rule of law must apply to everyone—regardless of immigration status. \n\n\n\nDetails: \n\n\n\nSundays 4-5 pm \n\n\n\nPinellas County Courthouse14250 49th Street N (corner of 144 Ave N & 49th St N)Clearwater\, FL 33762 \n\n\n\nRegister:https://flic.fyi/727vigil
URL:https://lwvspa.org/event/vigil-for-immigrant-justice-2/2025-12-07/
LOCATION:Pinellas County Courthouse\, 14450 49th Street N\, Clearwater\, Florida\, 33762\, United States
END:VEVENT
BEGIN:VEVENT
DTSTART;TZID=America/New_York:20251207T160000
DTEND;TZID=America/New_York:20251207T170000
DTSTAMP:20260423T130010
CREATED:20251116T130321Z
LAST-MODIFIED:20260212T195822Z
UID:10002250-1765123200-1765126800@lwvspa.org
SUMMARY:Vigil for Immigrant Justice
DESCRIPTION:The Pinellas/Hillsborough Interfaith Coalition\, LWVSPA\, and our allies host a peaceful Freedom Vigil to stand in solidarity with immigrant families and demand an end to the detention and deportation of our nonviolent\, law-abiding immigrant community neighbors\, siblings\, and friends. These vigils shine a light on the erosion of due process and the rise of authoritarian overreach. We pray for family reunification and justice for all immigrants. Together\, we affirm that justice\, compassion\, and the rule of law must apply to everyone—regardless of immigration status. \n\n\n\nDetails: \n\n\n\nSundays 4-5 pm \n\n\n\nPinellas County Courthouse14250 49th Street N (corner of 144 Ave N & 49th St N)Clearwater\, FL 33762 \n\n\n\nRegister:https://flic.fyi/727vigil
URL:https://lwvspa.org/event/vigil-for-immigrant-justice/2025-12-07/
LOCATION:Pinellas County Courthouse\, 14450 49th Street N\, Clearwater\, Florida\, 33762\, United States
END:VEVENT
BEGIN:VEVENT
DTSTART;TZID=America/New_York:20251130T160000
DTEND;TZID=America/New_York:20251130T170000
DTSTAMP:20260423T130010
CREATED:20260212T195905Z
LAST-MODIFIED:20260212T195906Z
UID:10002369-1764518400-1764522000@lwvspa.org
SUMMARY:Vigil for Immigrant Justice
DESCRIPTION:The Pinellas/Hillsborough Interfaith Coalition\, LWVSPA\, and our allies host a peaceful Freedom Vigil to stand in solidarity with immigrant families and demand an end to the detention and deportation of our nonviolent\, law-abiding immigrant community neighbors\, siblings\, and friends. These vigils shine a light on the erosion of due process and the rise of authoritarian overreach. We pray for family reunification and justice for all immigrants. Together\, we affirm that justice\, compassion\, and the rule of law must apply to everyone—regardless of immigration status. \n\n\n\nDetails: \n\n\n\nSundays 4-5 pm \n\n\n\nPinellas County Courthouse14250 49th Street N (corner of 144 Ave N & 49th St N)Clearwater\, FL 33762 \n\n\n\nRegister:https://flic.fyi/727vigil
URL:https://lwvspa.org/event/vigil-for-immigrant-justice-2/2025-11-30/
LOCATION:Pinellas County Courthouse\, 14450 49th Street N\, Clearwater\, Florida\, 33762\, United States
END:VEVENT
BEGIN:VEVENT
DTSTART;TZID=America/New_York:20251130T160000
DTEND;TZID=America/New_York:20251130T170000
DTSTAMP:20260423T130010
CREATED:20251116T130321Z
LAST-MODIFIED:20260212T195822Z
UID:10002249-1764518400-1764522000@lwvspa.org
SUMMARY:Vigil for Immigrant Justice
DESCRIPTION:The Pinellas/Hillsborough Interfaith Coalition\, LWVSPA\, and our allies host a peaceful Freedom Vigil to stand in solidarity with immigrant families and demand an end to the detention and deportation of our nonviolent\, law-abiding immigrant community neighbors\, siblings\, and friends. These vigils shine a light on the erosion of due process and the rise of authoritarian overreach. We pray for family reunification and justice for all immigrants. Together\, we affirm that justice\, compassion\, and the rule of law must apply to everyone—regardless of immigration status. \n\n\n\nDetails: \n\n\n\nSundays 4-5 pm \n\n\n\nPinellas County Courthouse14250 49th Street N (corner of 144 Ave N & 49th St N)Clearwater\, FL 33762 \n\n\n\nRegister:https://flic.fyi/727vigil
URL:https://lwvspa.org/event/vigil-for-immigrant-justice/2025-11-30/
LOCATION:Pinellas County Courthouse\, 14450 49th Street N\, Clearwater\, Florida\, 33762\, United States
END:VEVENT
BEGIN:VEVENT
DTSTART;TZID=America/New_York:20251123T160000
DTEND;TZID=America/New_York:20251123T170000
DTSTAMP:20260423T130010
CREATED:20260212T195905Z
LAST-MODIFIED:20260212T195906Z
UID:10002368-1763913600-1763917200@lwvspa.org
SUMMARY:Vigil for Immigrant Justice
DESCRIPTION:The Pinellas/Hillsborough Interfaith Coalition\, LWVSPA\, and our allies host a peaceful Freedom Vigil to stand in solidarity with immigrant families and demand an end to the detention and deportation of our nonviolent\, law-abiding immigrant community neighbors\, siblings\, and friends. These vigils shine a light on the erosion of due process and the rise of authoritarian overreach. We pray for family reunification and justice for all immigrants. Together\, we affirm that justice\, compassion\, and the rule of law must apply to everyone—regardless of immigration status. \n\n\n\nDetails: \n\n\n\nSundays 4-5 pm \n\n\n\nPinellas County Courthouse14250 49th Street N (corner of 144 Ave N & 49th St N)Clearwater\, FL 33762 \n\n\n\nRegister:https://flic.fyi/727vigil
URL:https://lwvspa.org/event/vigil-for-immigrant-justice-2/2025-11-23/
LOCATION:Pinellas County Courthouse\, 14450 49th Street N\, Clearwater\, Florida\, 33762\, United States
END:VEVENT
BEGIN:VEVENT
DTSTART;TZID=America/New_York:20251123T160000
DTEND;TZID=America/New_York:20251123T170000
DTSTAMP:20260423T130010
CREATED:20251116T130321Z
LAST-MODIFIED:20260212T195822Z
UID:10002248-1763913600-1763917200@lwvspa.org
SUMMARY:Vigil for Immigrant Justice
DESCRIPTION:The Pinellas/Hillsborough Interfaith Coalition\, LWVSPA\, and our allies host a peaceful Freedom Vigil to stand in solidarity with immigrant families and demand an end to the detention and deportation of our nonviolent\, law-abiding immigrant community neighbors\, siblings\, and friends. These vigils shine a light on the erosion of due process and the rise of authoritarian overreach. We pray for family reunification and justice for all immigrants. Together\, we affirm that justice\, compassion\, and the rule of law must apply to everyone—regardless of immigration status. \n\n\n\nDetails: \n\n\n\nSundays 4-5 pm \n\n\n\nPinellas County Courthouse14250 49th Street N (corner of 144 Ave N & 49th St N)Clearwater\, FL 33762 \n\n\n\nRegister:https://flic.fyi/727vigil
URL:https://lwvspa.org/event/vigil-for-immigrant-justice/2025-11-23/
LOCATION:Pinellas County Courthouse\, 14450 49th Street N\, Clearwater\, Florida\, 33762\, United States
END:VEVENT
BEGIN:VEVENT
DTSTART;TZID=America/New_York:20251116T160000
DTEND;TZID=America/New_York:20251116T170000
DTSTAMP:20260423T130010
CREATED:20260212T195905Z
LAST-MODIFIED:20260212T195906Z
UID:10002367-1763308800-1763312400@lwvspa.org
SUMMARY:Vigil for Immigrant Justice
DESCRIPTION:The Pinellas/Hillsborough Interfaith Coalition\, LWVSPA\, and our allies host a peaceful Freedom Vigil to stand in solidarity with immigrant families and demand an end to the detention and deportation of our nonviolent\, law-abiding immigrant community neighbors\, siblings\, and friends. These vigils shine a light on the erosion of due process and the rise of authoritarian overreach. We pray for family reunification and justice for all immigrants. Together\, we affirm that justice\, compassion\, and the rule of law must apply to everyone—regardless of immigration status. \n\n\n\nDetails: \n\n\n\nSundays 4-5 pm \n\n\n\nPinellas County Courthouse14250 49th Street N (corner of 144 Ave N & 49th St N)Clearwater\, FL 33762 \n\n\n\nRegister:https://flic.fyi/727vigil
URL:https://lwvspa.org/event/vigil-for-immigrant-justice-2/2025-11-16/
LOCATION:Pinellas County Courthouse\, 14450 49th Street N\, Clearwater\, Florida\, 33762\, United States
END:VEVENT
BEGIN:VEVENT
DTSTART;TZID=America/New_York:20251116T160000
DTEND;TZID=America/New_York:20251116T170000
DTSTAMP:20260423T130010
CREATED:20251116T130321Z
LAST-MODIFIED:20260212T195822Z
UID:10002247-1763308800-1763312400@lwvspa.org
SUMMARY:Vigil for Immigrant Justice
DESCRIPTION:The Pinellas/Hillsborough Interfaith Coalition\, LWVSPA\, and our allies host a peaceful Freedom Vigil to stand in solidarity with immigrant families and demand an end to the detention and deportation of our nonviolent\, law-abiding immigrant community neighbors\, siblings\, and friends. These vigils shine a light on the erosion of due process and the rise of authoritarian overreach. We pray for family reunification and justice for all immigrants. Together\, we affirm that justice\, compassion\, and the rule of law must apply to everyone—regardless of immigration status. \n\n\n\nDetails: \n\n\n\nSundays 4-5 pm \n\n\n\nPinellas County Courthouse14250 49th Street N (corner of 144 Ave N & 49th St N)Clearwater\, FL 33762 \n\n\n\nRegister:https://flic.fyi/727vigil
URL:https://lwvspa.org/event/vigil-for-immigrant-justice/2025-11-16/
LOCATION:Pinellas County Courthouse\, 14450 49th Street N\, Clearwater\, Florida\, 33762\, United States
END:VEVENT
BEGIN:VEVENT
DTSTART;TZID=America/New_York:20251102T170000
DTEND;TZID=America/New_York:20251102T180000
DTSTAMP:20260423T130010
CREATED:20251028T114229Z
LAST-MODIFIED:20251028T114231Z
UID:10002230-1762102800-1762106400@lwvspa.org
SUMMARY:Disappeared In America Day of Action
DESCRIPTION:Immigrant families are being torn apart — but together\, we can demand human dignity\, justice\, and due process. On Nov 2\, join the vigil in front of the Pinellas County Courthouse in Clearwater as part of the national Disappeared In America Day of Action. Together\, we will not tolerate our immigrant neighbors and loved ones to disappear without a trace. Sponsored by Pinellas/Hillsborough Interfaith Coalition\, co-sponsored by LWVSPA \n\n\n\n\n\n		RSVP / More Info
URL:https://lwvspa.org/event/disappeared-in-america-day-of-action/
LOCATION:Pinellas County Courthouse\, 14450 49th Street N\, Clearwater\, Florida\, 33762\, United States
END:VEVENT
END:VCALENDAR