BEGIN:VCALENDAR
VERSION:2.0
PRODID:-//LWVSPA - ECPv6.15.20//NONSGML v1.0//EN
CALSCALE:GREGORIAN
METHOD:PUBLISH
X-WR-CALNAME:LWVSPA
X-ORIGINAL-URL:https://lwvspa.org
X-WR-CALDESC:Events for LWVSPA
REFRESH-INTERVAL;VALUE=DURATION:PT1H
X-Robots-Tag:noindex
X-PUBLISHED-TTL:PT1H
BEGIN:VTIMEZONE
TZID:America/New_York
BEGIN:DAYLIGHT
TZOFFSETFROM:-0500
TZOFFSETTO:-0400
TZNAME:EDT
DTSTART:20240310T070000
END:DAYLIGHT
BEGIN:STANDARD
TZOFFSETFROM:-0400
TZOFFSETTO:-0500
TZNAME:EST
DTSTART:20241103T060000
END:STANDARD
BEGIN:DAYLIGHT
TZOFFSETFROM:-0500
TZOFFSETTO:-0400
TZNAME:EDT
DTSTART:20250309T070000
END:DAYLIGHT
BEGIN:STANDARD
TZOFFSETFROM:-0400
TZOFFSETTO:-0500
TZNAME:EST
DTSTART:20251102T060000
END:STANDARD
BEGIN:DAYLIGHT
TZOFFSETFROM:-0500
TZOFFSETTO:-0400
TZNAME:EDT
DTSTART:20260308T070000
END:DAYLIGHT
BEGIN:STANDARD
TZOFFSETFROM:-0400
TZOFFSETTO:-0500
TZNAME:EST
DTSTART:20261101T060000
END:STANDARD
BEGIN:DAYLIGHT
TZOFFSETFROM:-0500
TZOFFSETTO:-0400
TZNAME:EDT
DTSTART:20270314T070000
END:DAYLIGHT
BEGIN:STANDARD
TZOFFSETFROM:-0400
TZOFFSETTO:-0500
TZNAME:EST
DTSTART:20271107T060000
END:STANDARD
END:VTIMEZONE
BEGIN:VEVENT
DTSTART;TZID=America/New_York:20260207T101500
DTEND;TZID=America/New_York:20260207T114500
DTSTAMP:20260423T184641
CREATED:20250918T191548Z
LAST-MODIFIED:20260107T220635Z
UID:10002162-1770459300-1770464700@lwvspa.org
SUMMARY:LWVSPA Program Planning
DESCRIPTION:RSVP Here\n\n\n\n\nEvery year\, we solicit advocacy and educational issues from our members to set our “Program”\, or priorities\, for the next League year (May – April). This process happens during Program Planning\, where teams present their issue\, its importance\, and their plan. Members vote on programs to be presented at our Annual Meeting. \n\n\n\nChildcare will be available during the meeting; if you need that service\, please fill out the form that appears on the RSVP confirmation page.
URL:https://lwvspa.org/event/lwvspa-program-planning/
LOCATION:President Barack Obama Main Library\, 3745 9th Ave N\, St. Petersburg\, Florida\, 33713\, United States
END:VEVENT
BEGIN:VEVENT
DTSTART;TZID=America/New_York:20251129T140000
DTEND;TZID=America/New_York:20251129T150000
DTSTAMP:20260423T184641
CREATED:20251104T142524Z
LAST-MODIFIED:20251104T142529Z
UID:10002233-1764424800-1764428400@lwvspa.org
SUMMARY:The History of Voting Legislation @ President Barack Obama Main Library
DESCRIPTION:Join us at the library for an educational lecture on the history and evolution of U.S. voting legislation\, presented by the League of Women Voters. Engage with representatives from the League and the Supervisor of Elections at informational tables. A special book display on voting rights will accompany this program to inspire civic participation.
URL:https://lwvspa.org/event/the-history-of-voting-legislation-president-barack-obama-main-library/
LOCATION:President Barack Obama Main Library\, 3745 9th Ave N\, St. Petersburg\, Florida\, 33713\, United States
END:VEVENT
END:VCALENDAR