BEGIN:VCALENDAR
VERSION:2.0
PRODID:-//LWVSPA - ECPv6.15.20//NONSGML v1.0//EN
CALSCALE:GREGORIAN
METHOD:PUBLISH
X-ORIGINAL-URL:https://lwvspa.org
X-WR-CALDESC:Events for LWVSPA
REFRESH-INTERVAL;VALUE=DURATION:PT1H
X-Robots-Tag:noindex
X-PUBLISHED-TTL:PT1H
BEGIN:VTIMEZONE
TZID:America/New_York
BEGIN:DAYLIGHT
TZOFFSETFROM:-0500
TZOFFSETTO:-0400
TZNAME:EDT
DTSTART:20250309T070000
END:DAYLIGHT
BEGIN:STANDARD
TZOFFSETFROM:-0400
TZOFFSETTO:-0500
TZNAME:EST
DTSTART:20251102T060000
END:STANDARD
BEGIN:DAYLIGHT
TZOFFSETFROM:-0500
TZOFFSETTO:-0400
TZNAME:EDT
DTSTART:20260308T070000
END:DAYLIGHT
BEGIN:STANDARD
TZOFFSETFROM:-0400
TZOFFSETTO:-0500
TZNAME:EST
DTSTART:20261101T060000
END:STANDARD
BEGIN:DAYLIGHT
TZOFFSETFROM:-0500
TZOFFSETTO:-0400
TZNAME:EDT
DTSTART:20270314T070000
END:DAYLIGHT
BEGIN:STANDARD
TZOFFSETFROM:-0400
TZOFFSETTO:-0500
TZNAME:EST
DTSTART:20271107T060000
END:STANDARD
END:VTIMEZONE
BEGIN:VEVENT
DTSTART;TZID=America/New_York:20260127T173000
DTEND;TZID=America/New_York:20260127T190000
DTSTAMP:20260423T170128
CREATED:20251222T181809Z
LAST-MODIFIED:20260125T121338Z
UID:10002275-1769535000-1769540400@lwvspa.org
SUMMARY:Cocktails & Conversation
DESCRIPTION:Join the League for Cocktails & Conversation\, and invite a guest or two.These happy hours are the perfect time to relax with (or without!) a drink and enjoy some great company. \n\n\n\nWe are adding an ACTION to our January 27th Cocktails & Conversation!  \n\n\n\nJoin us in creating and writing VALENTINES to Florida politicians\, legislators and law enforcement officials\, asking them to come from a place of LOVE when they are considering their legislative\, political and law enforcement duties. These promise to be really different from anything else they receive by mail\, and break through the noise. \n\n\n\nWe’ll supply arts and crafts materials\, paper\, markers\, glue sticks\, scissors\, messaging ideas\, envelopes\, addresses and postage. \n\n\n\nYou bring your energy and hands on deck. It will be fun and festive! \n\n\n\n***UPDATE: Don’t let the weather forecast keep you from joining us at this special Cocktails & Conversation! The Big Catch at Salt Creek has great space heaters for us and we ask that you dress warmly to be comfortable in the covered — but not enclosed — dining area\, with space heaters cranked up!***Knowing how many people are coming allows us and the venue to prepare properly. \n\n\n\n\n\n		RSVP Here
URL:https://lwvspa.org/event/cocktails-conversation-8/
LOCATION:The Big Catch\, 1500 2nd St S\, St. Petersburg\, FL 33701
END:VEVENT
END:VCALENDAR